BEGIN:VCALENDAR
VERSION:2.0
PRODID:-//Théâtre Simone Signoret - ECPv5.9.1//NONSGML v1.0//EN
CALSCALE:GREGORIAN
METHOD:PUBLISH
X-WR-CALNAME:Théâtre Simone Signoret
X-ORIGINAL-URL:https://www.theatre-simone-signoret.fr
X-WR-CALDESC:évènements pour Théâtre Simone Signoret
BEGIN:VTIMEZONE
TZID:Europe/Paris
BEGIN:DAYLIGHT
TZOFFSETFROM:+0100
TZOFFSETTO:+0200
TZNAME:CEST
DTSTART:20250330T010000
END:DAYLIGHT
BEGIN:STANDARD
TZOFFSETFROM:+0200
TZOFFSETTO:+0100
TZNAME:CET
DTSTART:20251026T010000
END:STANDARD
END:VTIMEZONE
BEGIN:VEVENT
DTSTART;TZID=Europe/Paris:20250311T203000
DTEND;TZID=Europe/Paris:20250311T203000
DTSTAMP:20260420T063855
CREATED:20240612T075248Z
LAST-MODIFIED:20240612T085442Z
UID:5668-1741725000-1741725000@www.theatre-simone-signoret.fr
SUMMARY:Dolores
DESCRIPTION:« Avec ce Dolores\, les auteurs réussissent brillamment à mêler la petite histoire à la grande [sublimée par] la mise en scène de Virginie Lemoine qui fait du théâtre avec peu. » Paris Match\n« Une pièce sensible\, humaine\, passionnelle » L’Humanité \nLa tourmente de l’Histoire transforme parfois les quidams en héros. Sylvin Rubinstein\, qui n’attendait de la vie que de danser le flamenco avec sa sœur jumelle Maria\, entre dans la résistance contre les nazis. Après plusieurs mois dans le ghetto de Varsovie\, il s’allie à Kurt Werner\, officier de la Wehrmacht et résistant\, et mène des actions de plus en plus dangereuses. Hanté par la disparition de sa sœur aux mains des nazis\, il prend son apparence\, et c’est en tenue de Dolores\, le nom de scène de Maria\, qu’il accomplit un acte d’une violence inouïe. \nAu soir de sa vie Sylvin Rubinstein lève le voile sur son destin\, de peur que le souvenir de Maria s’éteigne en même temps que lui. \n— TOUT PUBLIC – À PARTIR DE 12 ANS —\nTarif B. Cliquez ici pour consulter la grille tarifaire. \nCliquez ici pour acheter vos billets.\n  \n\n					 Texte de Yann Guillon et Stéphane Laporte // Mise en scène Virginie Lemoine // Assistant mise en scène Laury André // Avec Olivier Sitruk\, François Feroleto\, Joséphine Thoby\, Sharon Sultan (danseuse flamenco)\, Ruben Molina (danseur flamenco)\, Cristo Cortes (chanteur et musicien) et Dani Barba (musicien) // Scénographie Grégoire Lemoine // Costumes Julia Allègre // Lumières et vidéo Mehdi Izza // Création sonore Vincent Lustaud // Chorégraphie Marjorie Ascione en collaboration avec Sharon Sultan et Ruben Molina // Production Atelier théâtre actuel // Coproduction Fiva Production\, IMAO\, RSC P et Macal Prod // La pièce Dolores de Yann Guillon et Stéphane Laporte est représentée par l’agence Drama // Soutiens Espace culturel Bernard Dague – Louvres\, Fondation Rothschild\, Galerie Olivier Waltman // ©Frédérique Toulet
URL:https://www.theatre-simone-signoret.fr/programme/dolores/
LOCATION:Théâtre Simone-Signoret\, 12\, place Romagné\, Conflans-Sainte-Honorine\, 78700\, France
CATEGORIES:Théâtre
ATTACH;FMTTYPE=image/jpeg:https://www.theatre-simone-signoret.fr/wp-content/uploads/2024/06/18.-Dolores.jpg
END:VEVENT
END:VCALENDAR