BEGIN:VCALENDAR
VERSION:2.0
PRODID:-//Théâtre Simone Signoret - ECPv5.9.1//NONSGML v1.0//EN
CALSCALE:GREGORIAN
METHOD:PUBLISH
X-WR-CALNAME:Théâtre Simone Signoret
X-ORIGINAL-URL:https://www.theatre-simone-signoret.fr
X-WR-CALDESC:évènements pour Théâtre Simone Signoret
BEGIN:VTIMEZONE
TZID:Europe/Paris
BEGIN:DAYLIGHT
TZOFFSETFROM:+0100
TZOFFSETTO:+0200
TZNAME:CEST
DTSTART:20250330T010000
END:DAYLIGHT
BEGIN:STANDARD
TZOFFSETFROM:+0200
TZOFFSETTO:+0100
TZNAME:CET
DTSTART:20251026T010000
END:STANDARD
END:VTIMEZONE
BEGIN:VEVENT
DTSTART;TZID=Europe/Paris:20250131T203000
DTEND;TZID=Europe/Paris:20250131T203000
DTSTAMP:20260425T194540
CREATED:20240612T074106Z
LAST-MODIFIED:20240612T084539Z
UID:5647-1738355400-1738355400@www.theatre-simone-signoret.fr
SUMMARY:Olivia Ruiz
DESCRIPTION:« Inspirée par des artistes telles que Rosalia\, Olivia Ruiz chante sa force\, sa sensualité sans tomber dans de l’exhibitionnisme » Midi Libre \nSept ans se sont écoulés depuis son dernier album\, pourtant Olivia Ruiz n’a jamais quitté la scène. Entre celle des librairies avec la sortie de deux romans et celle des théâtres où elle s’est produite sur les planches avec le spectacle Bouches Cousues. \nElle revient aujourd’hui avec « La Réplique »\, son 6e album hors des sentiers battus\, engagé\, flamboyant et libre qui parlera à toutes celles et ceux qui ne veulent pas abdiquer devant les diktats ambiants. Sur une musique parfaitement équilibrée entre la moiteur d’un rythme latin et les grondements rageurs de l’électronique\, mêlant le français et l’espagnol\, vos corps entiers vibreront face au retour d’Olivia Ruiz\, déjà présente sur la scène du Théâtre Simone-Signoret en 2017  ! \n— TOUT PUBLIC —\nTarif A. Cliquez ici pour consulter la grille tarifaire. \nCliquez ici pour acheter vos billets.\n  \n\n					 Autrice\, Compositrice\, Voix Olivia Ruiz // Claviers\, Trombone\, Trompette David Hadjadj // Clavier\, Basse\, Mathieu Denis // Guitares\, Ukulélé Vincent David // Batterie Loic Maurin // Scie musicale\, Nikelharpa\, Dulcimer\, Guitare Franck Marty // Production Astérios Spectacles // ©Charlotte Abramow
URL:https://www.theatre-simone-signoret.fr/programme/olivia-ruiz/
LOCATION:Théâtre Simone-Signoret\, 12\, place Romagné\, Conflans-Sainte-Honorine\, 78700\, France
CATEGORIES:Musique
ATTACH;FMTTYPE=image/jpeg:https://www.theatre-simone-signoret.fr/wp-content/uploads/2024/06/13.-Olivia-Ruiz.jpg
END:VEVENT
END:VCALENDAR