BEGIN:VCALENDAR
VERSION:2.0
PRODID:-//Théâtre Simone Signoret - ECPv5.9.1//NONSGML v1.0//EN
CALSCALE:GREGORIAN
METHOD:PUBLISH
X-WR-CALNAME:Théâtre Simone Signoret
X-ORIGINAL-URL:https://www.theatre-simone-signoret.fr
X-WR-CALDESC:évènements pour Théâtre Simone Signoret
BEGIN:VTIMEZONE
TZID:Europe/Paris
BEGIN:DAYLIGHT
TZOFFSETFROM:+0100
TZOFFSETTO:+0200
TZNAME:CEST
DTSTART:20250330T010000
END:DAYLIGHT
BEGIN:STANDARD
TZOFFSETFROM:+0200
TZOFFSETTO:+0100
TZNAME:CET
DTSTART:20251026T010000
END:STANDARD
END:VTIMEZONE
BEGIN:VEVENT
DTSTART;TZID=Europe/Paris:20250926T203000
DTEND;TZID=Europe/Paris:20250926T203000
DTSTAMP:20260425T190912
CREATED:20250610T210035Z
LAST-MODIFIED:20250906T090229Z
UID:5997-1758918600-1758918600@www.theatre-simone-signoret.fr
SUMMARY:PASSEPORT - COMPLET
DESCRIPTION:La nouvelle création d’Alexis Michalik ! \nIssa\, jeune Érythréen laissé pour mort dans la « jungle » de Calais\, a perdu la mémoire. Alors que le seul élément tangible de son passé est son passeport\, il entame une longue quête semée d’embûches afin d’obtenir un titre de séjour\, entouré de compagnons d’infortune. \n« On sait juste qu’ils ne parlent pas le français [et] qu’ils avaient l’intention de passer en Angleterre. Mais puisqu’on les en empêche\, ils vont bien devoir s’intégrer ici\, en France. […] Comme souvent\, il n’y a pas de morale\, juste un regard empathique\, humain\, sur le périple qu’ils ont parcouru\, et celui qui les attend. » Alexis Michalik \nMOLIÈRES 2024 : Nomination « Comédien dans un second rôle » pour Kevin Razy \n« Un conte de faits\, moderne. » Le Parisien  \n« La pièce allie le grandiose à la misère dans une mise en scène aux dimensions cinématographiques. » France Info Culture \n— TOUT PUBLIC à partir de 12 ans —\nTarif A. Cliquez ici pour consulter la grille tarifaire. \nCliquez ici pour acheter vos billets.\n\n					Auteur et metteur en scène Alexis Michalik // Assistante mise en scène Clotilde Daniault // Musiques Sly Johnson // Avec Christopher Bayemi\, Patrick Blandin\, Jean-Louis Garçon\, Kevin Razy\, Fayçal Safi\, Manda Touré et Ysmahane Yaqini // Production ACMÉ\, La Française de Théâtre // © Alejandro Guerrero
URL:https://www.theatre-simone-signoret.fr/programme/passeport/
LOCATION:Théâtre Simone-Signoret\, 12\, place Romagné\, Conflans-Sainte-Honorine\, 78700\, France
CATEGORIES:Théâtre
ATTACH;FMTTYPE=image/jpeg:https://www.theatre-simone-signoret.fr/wp-content/uploads/2025/05/02.Passeport_c_Alejandro-Guerrero.jpg
END:VEVENT
END:VCALENDAR