BEGIN:VCALENDAR
VERSION:2.0
PRODID:-//Théâtre Simone Signoret - ECPv5.9.1//NONSGML v1.0//EN
CALSCALE:GREGORIAN
METHOD:PUBLISH
X-WR-CALNAME:Théâtre Simone Signoret
X-ORIGINAL-URL:https://www.theatre-simone-signoret.fr
X-WR-CALDESC:évènements pour Théâtre Simone Signoret
BEGIN:VTIMEZONE
TZID:Europe/Paris
BEGIN:DAYLIGHT
TZOFFSETFROM:+0100
TZOFFSETTO:+0200
TZNAME:CEST
DTSTART:20250330T010000
END:DAYLIGHT
BEGIN:STANDARD
TZOFFSETFROM:+0200
TZOFFSETTO:+0100
TZNAME:CET
DTSTART:20251026T010000
END:STANDARD
END:VTIMEZONE
BEGIN:VEVENT
DTSTART;TZID=Europe/Paris:20250919T203000
DTEND;TZID=Europe/Paris:20250919T203000
DTSTAMP:20260425T194205
CREATED:20250610T210021Z
LAST-MODIFIED:20250606T122529Z
UID:5958-1758313800-1758313800@www.theatre-simone-signoret.fr
SUMMARY:STEPHAN EICHER - "Seul en scène"
DESCRIPTION:Dans le cadre du festival L’Estival\nStephan Eicher revient avec Seul en scène\, un spectacle musical intime dans lequel il explore une nouvelle façon de raconter son parcours musical. Se définissant comme profondément et culturellement européen\, il chante essentiellement en français mais aussi en allemand\, suisse-allemand\, italien et anglais. \n« Au cours de mes 40 années en tant que musicien itinérant\, j’ai appris que les théâtres sont de bons endroits pour exercer cet acte à la fois excitant et effrayant qui est de monter sur scène devant un public. […] J’amènerai mes peurs\, mon courage\, mes inquiétudes et mes joies\, à cette adresse exacte : le Théâtre. Et nous voilà\, vous\, moi et le hasard. » Cœurdialement\, Stephan Eicher \n« Stephan Eicher\, comme si on buvait le thé avec lui » Tribune de Genève/Quotidien\n« Fidèle à lui-même\, le génial sale gosse sur scène dit des choses profondes avec humour et autodérision » La Pépinière/Web \n— TOUT PUBLIC —\nTarif A. Cliquez ici pour consulter la grille tarifaire. \nCliquez ici pour acheter vos billets.\n  \n\n					Un spectacle musical de Stephan Eicher // Mise en scène François Gremaud // Production Astérios Spectacles // © Annik Wetter
URL:https://www.theatre-simone-signoret.fr/programme/stephan-eicher/
LOCATION:Théâtre Simone-Signoret\, 12\, place Romagné\, Conflans-Sainte-Honorine\, 78700\, France
CATEGORIES:Musique
ATTACH;FMTTYPE=image/jpeg:https://www.theatre-simone-signoret.fr/wp-content/uploads/2025/05/01.Eicher_c_Annik-Wetter.jpg
END:VEVENT
END:VCALENDAR