BEGIN:VCALENDAR
VERSION:2.0
PRODID:-//Théâtre Simone Signoret - ECPv5.9.1//NONSGML v1.0//EN
CALSCALE:GREGORIAN
METHOD:PUBLISH
X-WR-CALNAME:Théâtre Simone Signoret
X-ORIGINAL-URL:https://www.theatre-simone-signoret.fr
X-WR-CALDESC:évènements pour Théâtre Simone Signoret
BEGIN:VTIMEZONE
TZID:Europe/Paris
BEGIN:DAYLIGHT
TZOFFSETFROM:+0100
TZOFFSETTO:+0200
TZNAME:CEST
DTSTART:20240331T010000
END:DAYLIGHT
BEGIN:STANDARD
TZOFFSETFROM:+0200
TZOFFSETTO:+0100
TZNAME:CET
DTSTART:20241027T010000
END:STANDARD
END:VTIMEZONE
BEGIN:VEVENT
DTSTART;TZID=Europe/Paris:20241114T203000
DTEND;TZID=Europe/Paris:20241114T203000
DTSTAMP:20260425T194435
CREATED:20240612T073807Z
LAST-MODIFIED:20241010T152418Z
UID:5612-1731616200-1731616200@www.theatre-simone-signoret.fr
SUMMARY:Vidéo Club - COMPLET
DESCRIPTION:MOLIÈRES 2024 : 2 NOMINATIONS\n« Une comédie féroce\, d’une drôlerie terrible » Le Monde\n« Efficacement drôle » Le Parisien\n« Son secret : son sens de l’absurde\, de l’humour et ses interprètes d’excellence » La Tribune \nJustine et Jean-Marc\, mariés depuis vingt-cinq ans\, découvrent qu’une mystérieuse webcam les filme depuis des mois dans leur cuisine. Abasourdis\, ils reçoivent chaque jour une nouvelle vidéo\, les confrontant à leurs petites médiocrités du quotidien\, à leurs mensonges et à leurs trahisons. Tout en finesse et en humour\, ces images mettent en lumière les actes et paroles inavouables de ce duo charismatique… Mais un couple peut-il résister à la transparence totale ? \nDans cette comédie toute en nuances de Sébastien Thiéry (metteur en scène de Qui est Monsieur Schmitt ?)\, Justine (Noémie Lvovsky) et Jean-Marc (Yvan Attal) rivalisent tour à tour de mauvaise foi pour justifier des vérités qui n’auraient probablement jamais dû surgir… \n— TOUT PUBLIC – À PARTIR DE 12 ANS —\nTarif A. Cliquez ici pour consulter la grille tarifaire. \nCliquez ici pour acheter vos billets.\n  \n\n					Une pièce de Sébastien Thiéry // Mise en scène Jean-Louis Benoit // Avec Yvan Attal\, Noémie Lvovsky et Paolo Mattei // Décors Edouard Laug // Lumières Jean-Pascal Pracht // Vidéos Muriel Habrard // Accessoiriste Bénédicte Farago // Costumes Chouchane Abello-Tcherpachian // Chorégraphe Georgia Ives // Collaboration artistique Ninon Brétecher et Antoine Courtray // Production Jean-Marc Dumontet // ©Laura Gilli 
URL:https://www.theatre-simone-signoret.fr/programme/video-club/
LOCATION:Théâtre Simone-Signoret\, 12\, place Romagné\, Conflans-Sainte-Honorine\, 78700\, France
CATEGORIES:Théâtre
ATTACH;FMTTYPE=image/jpeg:https://www.theatre-simone-signoret.fr/wp-content/uploads/2024/06/5.-Video-Club.jpg
END:VEVENT
END:VCALENDAR